BEGIN:VCALENDAR
VERSION:2.0
PRODID:-// - ECPv6.15.20//NONSGML v1.0//EN
CALSCALE:GREGORIAN
METHOD:PUBLISH
X-ORIGINAL-URL:https://1wayentertainment.com
X-WR-CALDESC:Events for 
REFRESH-INTERVAL;VALUE=DURATION:PT1H
X-Robots-Tag:noindex
X-PUBLISHED-TTL:PT1H
BEGIN:VTIMEZONE
TZID:UTC
BEGIN:STANDARD
TZOFFSETFROM:+0000
TZOFFSETTO:+0000
TZNAME:UTC
DTSTART:20220101T000000
END:STANDARD
END:VTIMEZONE
BEGIN:VEVENT
DTSTART;TZID=UTC:20230809T180000
DTEND;TZID=UTC:20230809T180000
DTSTAMP:20260422T184815
CREATED:20230421T181638Z
LAST-MODIFIED:20230421T182050Z
UID:1818-1691604000-1691604000@1wayentertainment.com
SUMMARY:Unity Festival 2023 w/ Sis N Lil Bro
DESCRIPTION:
URL:https://1wayentertainment.com/event/unity-festival-2023-w-sis-n-lil-bro/
LOCATION:Heritage Landing County Park\, 1050 W. Seventh Street\, Muskegon\, Michigan\, 49440\, United States
END:VEVENT
BEGIN:VEVENT
DTSTART;TZID=UTC:20230729T080000
DTEND;TZID=UTC:20230729T170000
DTSTAMP:20260422T184815
CREATED:20230421T182200Z
LAST-MODIFIED:20230421T182317Z
UID:1822-1690617600-1690650000@1wayentertainment.com
SUMMARY:One Festival w/ Sis N Lil Bro
DESCRIPTION:
URL:https://1wayentertainment.com/event/one-festival-w-sis-n-lil-bro/
END:VEVENT
BEGIN:VEVENT
DTSTART;TZID=UTC:20230505T080000
DTEND;TZID=UTC:20230506T170000
DTSTAMP:20260422T184815
CREATED:20230420T202354Z
LAST-MODIFIED:20230421T182151Z
UID:1797-1683273600-1683392400@1wayentertainment.com
SUMMARY:Flavorfest Los Angeles w/ Sis N Lil Bro
DESCRIPTION:
URL:https://1wayentertainment.com/event/flavorfest-los-angeles-with-sis-n-lil-bro/
LOCATION:Light & Life Chirstian Fellowship\, 5951 Downey Ave. Long Beach\, CA\, CA\, United States
END:VEVENT
BEGIN:VEVENT
DTSTART;TZID=UTC:20230422T080000
DTEND;TZID=UTC:20230422T170000
DTSTAMP:20260422T184815
CREATED:20230420T201432Z
LAST-MODIFIED:20230420T202348Z
UID:1792-1682150400-1682182800@1wayentertainment.com
SUMMARY:Flavorfest Queens NY w/ Xross
DESCRIPTION:
URL:https://1wayentertainment.com/event/flavorfest-queens-ny/
LOCATION:Elohim Christian Church\, 8747 111th Street | Richmond Hill\, NY\, New York\, 11418\, United States
END:VEVENT
END:VCALENDAR